BEGIN:VCALENDAR
VERSION:2.0
PRODID:-//SG Scheuerfeld//NONSGML kigkonsult.se iCalcreator 2.30.10//
CALSCALE:GREGORIAN
METHOD:PUBLISH
UID:f711e0f7-4c16-4578-bc58-450c3b2cd19f
X-WR-CALNAME:iCagenda
X-WR-CALDESC:Event Management Extension for Joomla!
X-WR-RELCALID:3E26604A-50F4-4449-8B3E-E4F4932D05B5
X-WR-TIMEZONE:Europe/Berlin
BEGIN:VTIMEZONE
TZID:Europe/Berlin
BEGIN:STANDARD
TZNAME:CET
DTSTART:20251026T030000
TZOFFSETFROM:+0200
TZOFFSETTO:+0100
RDATE:20261025T030000
END:STANDARD
BEGIN:DAYLIGHT
TZNAME:CEST
DTSTART:20250330T020000
TZOFFSETFROM:+0100
TZOFFSETTO:+0200
RDATE:20260329T020000
RDATE:20270328T020000
END:DAYLIGHT
END:VTIMEZONE
BEGIN:VEVENT
UID:33d2b71e-5314-4ada-922b-5853c8fc42a6
DTSTAMP:20260421T104339Z
CATEGORIES:Jahresplan
CLASS:PUBLIC
DESCRIPTION:
DTSTART:20260321T130000Z
DTEND:20260321T130000Z
GEO:00;0
LOCATION:
ORGANIZER:
SEQUENCE:1
SUMMARY:Jahreshauptversammlung
TRANSP:OPAQUE
URL:https://www.sgscheuerfeld.de/index.php/termine/98-jahreshauptversammlun
 g-3/2026-03-21-14-00
END:VEVENT
END:VCALENDAR
